Package: BASiCS Version: 2.20.0 Command: /home/biocbuild/R/R/bin/R CMD build --keep-empty-dirs --no-resave-data BASiCS StartedAt: 2025-10-13 22:46:56 -0000 (Mon, 13 Oct 2025) EndedAt: 2025-10-13 22:49:44 -0000 (Mon, 13 Oct 2025) EllapsedTime: 168.0 seconds RetCode: 0 Status: OK PackageFile: BASiCS_2.20.0.tar.gz PackageFileSize: 3.157 MiB