Package: BASiCS Version: 2.20.0 Command: /Library/Frameworks/R.framework/Resources/bin/R CMD INSTALL BASiCS StartedAt: 2025-10-13 18:11:46 -0400 (Mon, 13 Oct 2025) EndedAt: 2025-10-13 18:13:00 -0400 (Mon, 13 Oct 2025) EllapsedTime: 73.9 seconds RetCode: 0 Status: OK