Package: BADER Version: 1.46.0 Command: /home/biocbuild/R/R/bin/R CMD build --keep-empty-dirs --no-resave-data BADER StartedAt: 2025-10-13 22:42:28 -0000 (Mon, 13 Oct 2025) EndedAt: 2025-10-13 22:42:46 -0000 (Mon, 13 Oct 2025) EllapsedTime: 18.0 seconds RetCode: 0 Status: OK PackageFile: BADER_1.46.0.tar.gz PackageFileSize: 232.2 KiB