Package: AssessORF Version: 1.26.0 Command: /home/biocbuild/bbs-3.21-bioc/R/bin/R CMD build --keep-empty-dirs --no-resave-data AssessORF StartedAt: 2025-10-15 16:12:46 -0400 (Wed, 15 Oct 2025) EndedAt: 2025-10-15 16:13:23 -0400 (Wed, 15 Oct 2025) EllapsedTime: 37.1 seconds RetCode: 0 Status: OK PackageFile: AssessORF_1.26.0.tar.gz PackageFileSize: 4.703 MiB