Package: AssessORF Version: 1.26.0 Command: /home/biocbuild/R/R/bin/R CMD build --keep-empty-dirs --no-resave-data AssessORF StartedAt: 2025-10-13 22:38:02 -0000 (Mon, 13 Oct 2025) EndedAt: 2025-10-13 22:38:53 -0000 (Mon, 13 Oct 2025) EllapsedTime: 51.0 seconds RetCode: 0 Status: OK PackageFile: AssessORF_1.26.0.tar.gz PackageFileSize: 4.696 MiB