Package: ArrayExpress Version: 1.68.0 Command: /home/biocbuild/bbs-3.21-bioc/R/bin/R CMD INSTALL ArrayExpress StartedAt: 2025-10-15 15:20:44 -0400 (Wed, 15 Oct 2025) EndedAt: 2025-10-15 15:21:09 -0400 (Wed, 15 Oct 2025) EllapsedTime: 24.6 seconds RetCode: 0 Status: OK