Package: ArrayExpress Version: 1.68.0 Command: /Library/Frameworks/R.framework/Resources/bin/R CMD INSTALL ArrayExpress StartedAt: 2025-10-13 15:37:20 -0400 (Mon, 13 Oct 2025) EndedAt: 2025-10-13 15:38:16 -0400 (Mon, 13 Oct 2025) EllapsedTime: 56.0 seconds RetCode: 0 Status: OK