Package: ArrayExpress Version: 1.68.0 Command: rm -rf ArrayExpress.buildbin-libdir && mkdir ArrayExpress.buildbin-libdir && /Users/biocbuild/BBS/utils/build-universal.sh ArrayExpress_1.68.0.tar.gz /Library/Frameworks/R.framework/Resources/bin/R ArrayExpress.buildbin-libdir StartedAt: 2025-10-14 12:50:44 -0400 (Tue, 14 Oct 2025) EndedAt: 2025-10-14 12:51:43 -0400 (Tue, 14 Oct 2025) EllapsedTime: 58.5 seconds RetCode: 0 Status: OK PackageFile: ArrayExpress_1.68.0.tgz PackageFileSize: 182.7 KiB