Package: ArrayExpress Version: 1.68.0 Command: /home/biocbuild/R/R/bin/R CMD INSTALL ArrayExpress StartedAt: 2025-10-13 20:33:26 -0000 (Mon, 13 Oct 2025) EndedAt: 2025-10-13 20:34:02 -0000 (Mon, 13 Oct 2025) EllapsedTime: 36.3 seconds RetCode: 0 Status: OK