Package: ArrayExpress Version: 1.68.0 Command: /home/biocbuild/R/R/bin/R CMD build --keep-empty-dirs --no-resave-data ArrayExpress StartedAt: 2025-10-13 22:35:25 -0000 (Mon, 13 Oct 2025) EndedAt: 2025-10-13 22:41:24 -0000 (Mon, 13 Oct 2025) EllapsedTime: 358.1 seconds RetCode: 0 Status: OK PackageFile: ArrayExpress_1.68.0.tar.gz PackageFileSize: 133.3 KiB