Package: ArrayExpress Version: 1.68.0 Command: /Library/Frameworks/R.framework/Resources/bin/R CMD INSTALL ArrayExpress StartedAt: 2025-10-13 16:19:12 -0400 (Mon, 13 Oct 2025) EndedAt: 2025-10-13 16:19:42 -0400 (Mon, 13 Oct 2025) EllapsedTime: 29.9 seconds RetCode: 0 Status: OK