Package: AnnotationHubData Version: 1.38.0 Command: /Library/Frameworks/R.framework/Resources/bin/R CMD INSTALL AnnotationHubData StartedAt: 2025-10-13 16:12:25 -0400 (Mon, 13 Oct 2025) EndedAt: 2025-10-13 16:13:53 -0400 (Mon, 13 Oct 2025) EllapsedTime: 88.1 seconds RetCode: 0 Status: OK