Package: AnnotationHubData Version: 1.38.0 Command: /Library/Frameworks/R.framework/Resources/bin/R CMD build --keep-empty-dirs --no-resave-data AnnotationHubData StartedAt: 2025-10-13 17:03:33 -0400 (Mon, 13 Oct 2025) EndedAt: 2025-10-13 17:05:04 -0400 (Mon, 13 Oct 2025) EllapsedTime: 90.8 seconds RetCode: 0 Status: OK PackageFile: AnnotationHubData_1.38.0.tar.gz PackageFileSize: 400.3 KiB