Package: AnnotationHubData Version: 1.38.0 Command: rm -rf AnnotationHubData.buildbin-libdir && mkdir AnnotationHubData.buildbin-libdir && /Users/biocbuild/BBS/utils/build-universal.sh AnnotationHubData_1.38.0.tar.gz /Library/Frameworks/R.framework/Resources/bin/R AnnotationHubData.buildbin-libdir StartedAt: 2025-10-14 12:50:02 -0400 (Tue, 14 Oct 2025) EndedAt: 2025-10-14 12:51:34 -0400 (Tue, 14 Oct 2025) EllapsedTime: 92.7 seconds RetCode: 0 Status: OK PackageFile: AnnotationHubData_1.38.0.tgz PackageFileSize: 934.3 KiB