Package: AnnotationHubData Version: 1.38.0 Command: /Library/Frameworks/R.framework/Resources/bin/R CMD build --keep-empty-dirs --no-resave-data AnnotationHubData StartedAt: 2025-04-21 15:56:27 -0400 (Mon, 21 Apr 2025) EndedAt: 2025-04-21 15:57:17 -0400 (Mon, 21 Apr 2025) EllapsedTime: 50.3 seconds RetCode: 0 Status: OK PackageFile: AnnotationHubData_1.38.0.tar.gz PackageFileSize: 400.3 KiB