Package: AnnotationHubData Version: 1.38.0 Command: /home/biocbuild/R/R/bin/R CMD INSTALL AnnotationHubData StartedAt: 2025-10-13 20:56:01 -0000 (Mon, 13 Oct 2025) EndedAt: 2025-10-13 20:57:01 -0000 (Mon, 13 Oct 2025) EllapsedTime: 59.9 seconds RetCode: 0 Status: OK