Package: AnnotationHubData Version: 1.38.0 Command: /home/biocbuild/R/R/bin/R CMD build --keep-empty-dirs --no-resave-data AnnotationHubData StartedAt: 2025-10-13 22:34:14 -0000 (Mon, 13 Oct 2025) EndedAt: 2025-10-13 22:35:14 -0000 (Mon, 13 Oct 2025) EllapsedTime: 60.0 seconds RetCode: 0 Status: OK PackageFile: AnnotationHubData_1.38.0.tar.gz PackageFileSize: 425.2 KiB