Package: AnnotationForge Version: 1.50.0 Command: /home/biocbuild/bbs-3.21-bioc/R/bin/R CMD INSTALL AnnotationForge StartedAt: 2025-10-15 15:24:55 -0400 (Wed, 15 Oct 2025) EndedAt: 2025-10-15 15:25:13 -0400 (Wed, 15 Oct 2025) EllapsedTime: 17.2 seconds RetCode: 0 Status: OK