Package: AnnotationForge Version: 1.50.0 Command: /home/biocbuild/bbs-3.21-bioc/R/bin/R CMD build --keep-empty-dirs --no-resave-data AnnotationForge StartedAt: 2025-10-15 16:10:36 -0400 (Wed, 15 Oct 2025) EndedAt: 2025-10-15 16:13:20 -0400 (Wed, 15 Oct 2025) EllapsedTime: 164.2 seconds RetCode: 0 Status: OK PackageFile: AnnotationForge_1.50.0.tar.gz PackageFileSize: 3.838 MiB