Package: AnnotationForge Version: 1.50.0 Command: /home/biocbuild/R/R/bin/R CMD build --keep-empty-dirs --no-resave-data AnnotationForge StartedAt: 2025-10-13 22:33:55 -0000 (Mon, 13 Oct 2025) EndedAt: 2025-10-13 22:37:35 -0000 (Mon, 13 Oct 2025) EllapsedTime: 220.1 seconds RetCode: 0 Status: OK PackageFile: AnnotationForge_1.50.0.tar.gz PackageFileSize: 3.85 MiB