Package: AnnotationForge Version: 1.50.0 Command: /Library/Frameworks/R.framework/Resources/bin/R CMD INSTALL AnnotationForge StartedAt: 2025-10-13 15:47:32 -0400 (Mon, 13 Oct 2025) EndedAt: 2025-10-13 15:47:52 -0400 (Mon, 13 Oct 2025) EllapsedTime: 20.0 seconds RetCode: 0 Status: OK