Package: AnnotationForge Version: 1.50.0 Command: /Library/Frameworks/R.framework/Resources/bin/R CMD build --keep-empty-dirs --no-resave-data AnnotationForge StartedAt: 2025-10-13 19:01:50 -0400 (Mon, 13 Oct 2025) EndedAt: 2025-10-13 19:05:31 -0400 (Mon, 13 Oct 2025) EllapsedTime: 221.3 seconds RetCode: 0 Status: OK PackageFile: AnnotationForge_1.50.0.tar.gz PackageFileSize: 3.838 MiB