Package: AnnotationDbi Version: 1.70.0 Command: rm -rf AnnotationDbi.buildbin-libdir && mkdir AnnotationDbi.buildbin-libdir && /Users/biocbuild/BBS/utils/build-universal.sh AnnotationDbi_1.70.0.tar.gz /Library/Frameworks/R.framework/Resources/bin/R AnnotationDbi.buildbin-libdir StartedAt: 2025-10-14 12:49:55 -0400 (Tue, 14 Oct 2025) EndedAt: 2025-10-14 12:50:45 -0400 (Tue, 14 Oct 2025) EllapsedTime: 50.3 seconds RetCode: 0 Status: OK PackageFile: AnnotationDbi_1.70.0.tgz PackageFileSize: 4.968 MiB