Package: AnnotationDbi Version: 1.70.0 Command: /home/biocbuild/R/R/bin/R CMD INSTALL AnnotationDbi StartedAt: 2025-10-13 20:38:51 -0000 (Mon, 13 Oct 2025) EndedAt: 2025-10-13 20:39:18 -0000 (Mon, 13 Oct 2025) EllapsedTime: 27.4 seconds RetCode: 0 Status: OK