Package: AnnotationDbi Version: 1.70.0 Command: /home/biocbuild/R/R/bin/R CMD build --keep-empty-dirs --no-resave-data AnnotationDbi StartedAt: 2025-10-13 22:33:32 -0000 (Mon, 13 Oct 2025) EndedAt: 2025-10-13 22:34:44 -0000 (Mon, 13 Oct 2025) EllapsedTime: 72.0 seconds RetCode: 0 Status: OK PackageFile: AnnotationDbi_1.70.0.tar.gz PackageFileSize: 4.157 MiB