Package: AnnotationDbi Version: 1.70.0 Command: /Library/Frameworks/R.framework/Resources/bin/R CMD INSTALL AnnotationDbi StartedAt: 2025-10-13 15:46:26 -0400 (Mon, 13 Oct 2025) EndedAt: 2025-10-13 15:46:47 -0400 (Mon, 13 Oct 2025) EllapsedTime: 21.0 seconds RetCode: 0 Status: OK