Package: AnVILWorkflow Version: 1.8.0 Command: /home/biocbuild/R/R/bin/R CMD build --keep-empty-dirs --no-resave-data AnVILWorkflow StartedAt: 2025-10-13 22:35:10 -0000 (Mon, 13 Oct 2025) EndedAt: 2025-10-13 22:35:21 -0000 (Mon, 13 Oct 2025) EllapsedTime: 11.0 seconds RetCode: 0 Status: OK PackageFile: AnVILWorkflow_1.8.0.tar.gz PackageFileSize: 1.143 MiB