Package: AnVILBase Version: 1.2.0 Command: /home/biocbuild/R/R/bin/R CMD build --keep-empty-dirs --no-resave-data AnVILBase StartedAt: 2025-10-13 22:34:54 -0000 (Mon, 13 Oct 2025) EndedAt: 2025-10-13 22:35:02 -0000 (Mon, 13 Oct 2025) EllapsedTime: 8.0 seconds RetCode: 0 Status: OK PackageFile: AnVILBase_1.2.0.tar.gz PackageFileSize: 252.7 KiB