Package: AnVILAz Version: 1.2.0 Command: rm -rf AnVILAz.buildbin-libdir && mkdir AnVILAz.buildbin-libdir && /Users/biocbuild/BBS/utils/build-universal.sh AnVILAz_1.2.0.tar.gz /Library/Frameworks/R.framework/Resources/bin/R AnVILAz.buildbin-libdir StartedAt: 2025-10-15 17:24:40 -0400 (Wed, 15 Oct 2025) EndedAt: 2025-10-15 17:24:47 -0400 (Wed, 15 Oct 2025) EllapsedTime: 7.0 seconds RetCode: 0 Status: OK PackageFile: AnVILAz_1.2.0.tgz PackageFileSize: 830.3 KiB