Package: AlphaMissenseR Version: 1.4.3 Command: /home/biocbuild/bbs-3.21-bioc/R/bin/R CMD INSTALL AlphaMissenseR StartedAt: 2025-10-15 15:08:54 -0400 (Wed, 15 Oct 2025) EndedAt: 2025-10-15 15:09:10 -0400 (Wed, 15 Oct 2025) EllapsedTime: 16.8 seconds RetCode: 0 Status: OK