Package: AlphaMissenseR Version: 1.4.3 Command: /home/biocbuild/bbs-3.21-bioc/R/bin/R CMD build --keep-empty-dirs --no-resave-data AlphaMissenseR StartedAt: 2025-10-15 16:09:26 -0400 (Wed, 15 Oct 2025) EndedAt: 2025-10-15 16:11:00 -0400 (Wed, 15 Oct 2025) EllapsedTime: 94.1 seconds RetCode: 1 Status: ERROR PackageFile: None PackageFileSize: NA