Package: AlphaMissenseR Version: 1.4.3 Command: /home/biocbuild/R/R/bin/R CMD INSTALL AlphaMissenseR StartedAt: 2025-10-13 20:20:37 -0000 (Mon, 13 Oct 2025) EndedAt: 2025-10-13 20:20:57 -0000 (Mon, 13 Oct 2025) EllapsedTime: 19.7 seconds RetCode: 0 Status: OK