Package: AlphaMissenseR Version: 1.4.3 Command: /home/biocbuild/R/R/bin/R CMD build --keep-empty-dirs --no-resave-data AlphaMissenseR StartedAt: 2025-10-13 22:32:11 -0000 (Mon, 13 Oct 2025) EndedAt: 2025-10-13 23:08:30 -0000 (Mon, 13 Oct 2025) EllapsedTime: 2178.5 seconds RetCode: 1 Status: ERROR PackageFile: None PackageFileSize: NA