Package: AlphaMissenseR Version: 1.4.3 Command: /Library/Frameworks/R.framework/Resources/bin/R CMD build --keep-empty-dirs --no-resave-data AlphaMissenseR StartedAt: 2025-10-13 18:56:43 -0400 (Mon, 13 Oct 2025) EndedAt: 2025-10-13 18:59:04 -0400 (Mon, 13 Oct 2025) EllapsedTime: 141.6 seconds RetCode: 0 Status: OK PackageFile: AlphaMissenseR_1.4.3.tar.gz PackageFileSize: 2.793 MiB