Package: AlphaMissenseR Version: 1.4.3 Command: rm -rf AlphaMissenseR.buildbin-libdir && mkdir AlphaMissenseR.buildbin-libdir && /Users/biocbuild/BBS/utils/build-universal.sh AlphaMissenseR_1.4.3.tar.gz /Library/Frameworks/R.framework/Resources/bin/R AlphaMissenseR.buildbin-libdir StartedAt: 2025-10-15 17:22:59 -0400 (Wed, 15 Oct 2025) EndedAt: 2025-10-15 17:23:13 -0400 (Wed, 15 Oct 2025) EllapsedTime: 13.6 seconds RetCode: 0 Status: OK PackageFile: AlphaMissenseR_1.4.3.tgz PackageFileSize: 2.737 MiB