Package: AlphaBeta Version: 1.22.0 Command: /home/biocbuild/R/R/bin/R CMD build --keep-empty-dirs --no-resave-data AlphaBeta StartedAt: 2025-10-13 22:32:10 -0000 (Mon, 13 Oct 2025) EndedAt: 2025-10-13 22:39:09 -0000 (Mon, 13 Oct 2025) EllapsedTime: 418.1 seconds RetCode: 0 Status: OK PackageFile: AlphaBeta_1.22.0.tar.gz PackageFileSize: 2.473 MiB