Package: AWFisher Version: 1.22.0 Command: /home/biocbuild/R/R/bin/R CMD INSTALL AWFisher StartedAt: 2025-10-13 20:16:19 -0000 (Mon, 13 Oct 2025) EndedAt: 2025-10-13 20:16:41 -0000 (Mon, 13 Oct 2025) EllapsedTime: 22.2 seconds RetCode: 0 Status: OK