Package: ATACseqTFEA Version: 1.10.0 Command: /home/biocbuild/bbs-3.21-bioc/R/bin/R CMD build --keep-empty-dirs --no-resave-data ATACseqTFEA StartedAt: 2025-10-15 16:13:13 -0400 (Wed, 15 Oct 2025) EndedAt: 2025-10-15 16:14:57 -0400 (Wed, 15 Oct 2025) EllapsedTime: 104.1 seconds RetCode: 0 Status: OK PackageFile: ATACseqTFEA_1.10.0.tar.gz PackageFileSize: 4.469 MiB