Package: ATACseqTFEA Version: 1.10.0 Command: /Library/Frameworks/R.framework/Resources/bin/R CMD INSTALL ATACseqTFEA StartedAt: 2025-04-21 15:40:29 -0400 (Mon, 21 Apr 2025) EndedAt: 2025-04-21 15:41:25 -0400 (Mon, 21 Apr 2025) EllapsedTime: 55.9 seconds RetCode: 0 Status: OK