Package: ATACseqTFEA Version: 1.10.0 Command: /Library/Frameworks/R.framework/Resources/bin/R CMD build --keep-empty-dirs --no-resave-data ATACseqTFEA StartedAt: 2025-04-21 15:57:55 -0400 (Mon, 21 Apr 2025) EndedAt: 2025-04-21 15:59:52 -0400 (Mon, 21 Apr 2025) EllapsedTime: 117.6 seconds RetCode: 0 Status: OK PackageFile: ATACseqTFEA_1.10.0.tar.gz PackageFileSize: 4.41 MiB