Package: ATACseqTFEA Version: 1.10.0 Command: /Library/Frameworks/R.framework/Resources/bin/R CMD INSTALL ATACseqTFEA StartedAt: 2025-10-13 18:00:49 -0400 (Mon, 13 Oct 2025) EndedAt: 2025-10-13 18:01:38 -0400 (Mon, 13 Oct 2025) EllapsedTime: 49.1 seconds RetCode: 0 Status: OK