Package: ATACseqTFEA Version: 1.10.0 Command: /Library/Frameworks/R.framework/Resources/bin/R CMD build --keep-empty-dirs --no-resave-data ATACseqTFEA StartedAt: 2025-10-13 19:15:49 -0400 (Mon, 13 Oct 2025) EndedAt: 2025-10-13 19:17:49 -0400 (Mon, 13 Oct 2025) EllapsedTime: 120.1 seconds RetCode: 0 Status: OK PackageFile: ATACseqTFEA_1.10.0.tar.gz PackageFileSize: 4.412 MiB