Package: ATACseqTFEA Version: 1.10.0 Command: rm -rf ATACseqTFEA.buildbin-libdir && mkdir ATACseqTFEA.buildbin-libdir && /Users/biocbuild/BBS/utils/build-universal.sh ATACseqTFEA_1.10.0.tar.gz /Library/Frameworks/R.framework/Resources/bin/R ATACseqTFEA.buildbin-libdir StartedAt: 2025-10-15 17:26:48 -0400 (Wed, 15 Oct 2025) EndedAt: 2025-10-15 17:27:45 -0400 (Wed, 15 Oct 2025) EllapsedTime: 56.3 seconds RetCode: 0 Status: OK PackageFile: ATACseqTFEA_1.10.0.tgz PackageFileSize: 4.867 MiB