Package: ATACseqQC Version: 1.32.0 Command: /home/biocbuild/R/R/bin/R CMD INSTALL ATACseqQC StartedAt: 2025-10-13 21:10:41 -0000 (Mon, 13 Oct 2025) EndedAt: 2025-10-13 21:12:01 -0000 (Mon, 13 Oct 2025) EllapsedTime: 80.0 seconds RetCode: 0 Status: OK