Package: ATACseqQC Version: 1.32.0 Command: /home/biocbuild/R/R/bin/R CMD build --keep-empty-dirs --no-resave-data ATACseqQC StartedAt: 2025-10-13 22:38:54 -0000 (Mon, 13 Oct 2025) EndedAt: 2025-10-13 22:43:33 -0000 (Mon, 13 Oct 2025) EllapsedTime: 279.1 seconds RetCode: 0 Status: OK PackageFile: ATACseqQC_1.32.0.tar.gz PackageFileSize: 14.3 MiB