Package: ATACseqQC Version: 1.32.0 Command: /Library/Frameworks/R.framework/Resources/bin/R CMD INSTALL ATACseqQC StartedAt: 2025-10-13 18:05:55 -0400 (Mon, 13 Oct 2025) EndedAt: 2025-10-13 18:07:02 -0400 (Mon, 13 Oct 2025) EllapsedTime: 67.0 seconds RetCode: 0 Status: OK