Package: ATACseqQC Version: 1.32.0 Command: /Library/Frameworks/R.framework/Resources/bin/R CMD build --keep-empty-dirs --no-resave-data ATACseqQC StartedAt: 2025-10-13 19:15:16 -0400 (Mon, 13 Oct 2025) EndedAt: 2025-10-13 19:19:37 -0400 (Mon, 13 Oct 2025) EllapsedTime: 261.6 seconds RetCode: 0 Status: OK PackageFile: ATACseqQC_1.32.0.tar.gz PackageFileSize: 14.77 MiB