Package: ASGSCA Version: 1.42.0 Command: /home/biocbuild/R/R/bin/R CMD INSTALL ASGSCA StartedAt: 2025-10-13 20:15:49 -0000 (Mon, 13 Oct 2025) EndedAt: 2025-10-13 20:15:59 -0000 (Mon, 13 Oct 2025) EllapsedTime: 10.1 seconds RetCode: 0 Status: OK