Package: ASGSCA Version: 1.42.0 Command: /home/biocbuild/R/R/bin/R CMD build --keep-empty-dirs --no-resave-data ASGSCA StartedAt: 2025-10-13 22:37:45 -0000 (Mon, 13 Oct 2025) EndedAt: 2025-10-13 22:41:52 -0000 (Mon, 13 Oct 2025) EllapsedTime: 246.1 seconds RetCode: 0 Status: OK PackageFile: ASGSCA_1.42.0.tar.gz PackageFileSize: 1.282 MiB