Package: ASGSCA Version: 1.42.0 Command: /Library/Frameworks/R.framework/Resources/bin/R CMD INSTALL ASGSCA StartedAt: 2025-10-13 15:15:54 -0400 (Mon, 13 Oct 2025) EndedAt: 2025-10-13 15:16:01 -0400 (Mon, 13 Oct 2025) EllapsedTime: 6.7 seconds RetCode: 0 Status: OK